BEGIN:VCALENDAR
VERSION:2.0
PRODID:-//BHP, Pierwsza Pomoc, Ochrona Środowiska - faid.com.pl - ECPv5.16.4//NONSGML v1.0//EN
CALSCALE:GREGORIAN
METHOD:PUBLISH
X-ORIGINAL-URL:https://faid.com.pl
X-WR-CALDESC:Events for BHP, Pierwsza Pomoc, Ochrona Środowiska - faid.com.pl
REFRESH-INTERVAL;VALUE=DURATION:PT1H
X-Robots-Tag:noindex
X-PUBLISHED-TTL:PT1H
BEGIN:VTIMEZONE
TZID:UTC
BEGIN:STANDARD
TZOFFSETFROM:+0000
TZOFFSETTO:+0000
TZNAME:UTC
DTSTART:20230101T000000
END:STANDARD
END:VTIMEZONE
BEGIN:VEVENT
DTSTART;TZID=UTC:20230822T170000
DTEND;TZID=UTC:20230822T200000
DTSTAMP:20260420T085619
CREATED:20230811T112305Z
LAST-MODIFIED:20230811T112348Z
UID:759-1692723600-1692734400@faid.com.pl
SUMMARY:Pediatryczna Pierwsza Pomoc - KURS
DESCRIPTION:Szkolenie przeznaczone dla rodziców\, dziadków\, opiekunów i osób na co dzień pracujących z dziećmi.\nKurs obejmuję tematykę stanów zagrożenia zdrowia i życia oraz urazów u dzieci i niemowląt.
URL:https://faid.com.pl/wydarzenie/pediatryczna-pierwsza-pomoc/
LOCATION:Szczecin\, Plac Jana Kilińskiego 3\, Szczecin\, Poland
ORGANIZER;CN="FAID%20%E2%80%93%20doradztwo%20i%20szkolenia":MAILTO:faid_szkolenia@wp.pl
END:VEVENT
END:VCALENDAR